BEGIN:VCALENDAR
VERSION:2.0
PRODID:-//wp-events-plugin.com//6.4.6.4//EN
TZID:Europe/Berlin
X-WR-TIMEZONE:Europe/Berlin
BEGIN:VEVENT
UID:615@dr-haertel.de
DTSTART;TZID=Europe/Berlin;VALUE=DATE:20260103
DTEND;TZID=Europe/Berlin;VALUE=DATE:20260105
DTSTAMP:20251020T083536Z
URL:https://www.dr-haertel.de/notdienste/zahnarzt-walter-seggelke-15/
SUMMARY:Zahnarzt Walter Seggelke
DESCRIPTION:05331-61130\n\nBehandlungszeit:\n\n10-11 Uhr
CATEGORIES:Notdienst
LOCATION:Zahnarzt Walter Seggelke\, Lindener Straße 59\, Wolfenbüttel\, N
 iedersachsen\, 383000\, Deutschland
GEO:52.15402;10.553229999999985
X-APPLE-STRUCTURED-LOCATION;VALUE=URI;X-ADDRESS=Lindener Straße 59\, Wolfe
 nbüttel\, Niedersachsen\, 383000\, Deutschland;X-APPLE-RADIUS=100;X-TITLE
 =Zahnarzt Walter Seggelke:geo:52.15402,10.553229999999985
END:VEVENT
BEGIN:VTIMEZONE
TZID:Europe/Berlin
X-LIC-LOCATION:Europe/Berlin
BEGIN:STANDARD
DTSTART:20251026T020000
TZOFFSETFROM:+0200
TZOFFSETTO:+0100
TZNAME:CET
END:STANDARD
END:VTIMEZONE
END:VCALENDAR