BEGIN:VCALENDAR
VERSION:2.0
PRODID:-//wp-events-plugin.com//6.4.6.4//EN
TZID:Europe/Berlin
X-WR-TIMEZONE:Europe/Berlin
BEGIN:VEVENT
UID:517@dr-haertel.de
DTSTART;TZID=Europe/Berlin;VALUE=DATE:20240831
DTEND;TZID=Europe/Berlin;VALUE=DATE:20240902
DTSTAMP:20240328T090303Z
URL:https://www.dr-haertel.de/notdienste/zahnarzt-ulf-ehrenpfordt-11/
SUMMARY:Zahnarzt Ulf Ehrenpfordt
DESCRIPTION:Tel:05331-73229\n\nBehandlungszeit:\n\n10-11 Uhr
CATEGORIES:Notdienst
LOCATION:Zahnarzt Ulf Ehrenpfordt\, Rosenwall 2b\, Wolfenbüttel\, Niedersa
 chsen\, 38300\, Deutschland
GEO:52.1666;10.53949
X-APPLE-STRUCTURED-LOCATION;VALUE=URI;X-ADDRESS=Rosenwall 2b\, Wolfenbütte
 l\, Niedersachsen\, 38300\, Deutschland;X-APPLE-RADIUS=100;X-TITLE=Zahnarz
 t Ulf Ehrenpfordt:geo:52.1666,10.53949
END:VEVENT
BEGIN:VTIMEZONE
TZID:Europe/Berlin
X-LIC-LOCATION:Europe/Berlin
BEGIN:DAYLIGHT
DTSTART:20240331T030000
TZOFFSETFROM:+0100
TZOFFSETTO:+0200
TZNAME:CEST
END:DAYLIGHT
END:VTIMEZONE
END:VCALENDAR