BEGIN:VCALENDAR
VERSION:2.0
PRODID:-//wp-events-plugin.com//6.4.6.4//EN
TZID:Europe/Berlin
X-WR-TIMEZONE:Europe/Berlin
BEGIN:VEVENT
UID:246@dr-haertel.de
DTSTART;TZID=Europe/Berlin;VALUE=DATE:20200815
DTEND;TZID=Europe/Berlin;VALUE=DATE:20200817
DTSTAMP:20200210T130740Z
URL:https://www.dr-haertel.de/notdienste/zahnarzt-philipp-reitmann-8/
SUMMARY:Zahnarzt Philipp Reitmann
DESCRIPTION:05331-72524\n\nBehandlungszeit: \n\n10-11 Uhr
CATEGORIES:Notdienst
LOCATION:Zahnarzt Philipp Reitmann\, Juliusstraße 28\, Wolfenbüttel\, Nie
 dersachsen\, 38300\, Deutschland
GEO:52.16364249999999;10.54877160000001
X-APPLE-STRUCTURED-LOCATION;VALUE=URI;X-ADDRESS=Juliusstraße 28\, Wolfenb
 üttel\, Niedersachsen\, 38300\, Deutschland;X-APPLE-RADIUS=100;X-TITLE=Za
 hnarzt Philipp Reitmann:geo:52.16364249999999,10.54877160000001
END:VEVENT
BEGIN:VTIMEZONE
TZID:Europe/Berlin
X-LIC-LOCATION:Europe/Berlin
BEGIN:DAYLIGHT
DTSTART:20200329T030000
TZOFFSETFROM:+0100
TZOFFSETTO:+0200
TZNAME:CEST
END:DAYLIGHT
END:VTIMEZONE
END:VCALENDAR