BEGIN:VCALENDAR
VERSION:2.0
PRODID:-//wp-events-plugin.com//6.4.6.4//EN
TZID:Europe/Berlin
X-WR-TIMEZONE:Europe/Berlin
BEGIN:VEVENT
UID:67@dr-haertel.de
DTSTART;TZID=Europe/Berlin:20180106T100000
DTEND;TZID=Europe/Berlin:20180107T110000
DTSTAMP:20171019T155613Z
URL:https://www.dr-haertel.de/notdienste/zahnarzt-philipp-reitmann-3/
SUMMARY:Zahnarzt Philipp Reitmann
DESCRIPTION:05331-72524
CATEGORIES:Notdienst
LOCATION:Zahnarzt Philipp Reitmann\, Juliusstraße 28\, Wolfenbüttel\, Nie
 dersachsen\, 38300\, Deutschland
GEO:52.16364249999999;10.54877160000001
X-APPLE-STRUCTURED-LOCATION;VALUE=URI;X-ADDRESS=Juliusstraße 28\, Wolfenb
 üttel\, Niedersachsen\, 38300\, Deutschland;X-APPLE-RADIUS=100;X-TITLE=Za
 hnarzt Philipp Reitmann:geo:52.16364249999999,10.54877160000001
END:VEVENT
BEGIN:VTIMEZONE
TZID:Europe/Berlin
X-LIC-LOCATION:Europe/Berlin
BEGIN:STANDARD
DTSTART:20171029T020000
TZOFFSETFROM:+0200
TZOFFSETTO:+0100
TZNAME:CET
END:STANDARD
END:VTIMEZONE
END:VCALENDAR