BEGIN:VCALENDAR
VERSION:2.0
PRODID:-//wp-events-plugin.com//6.4.6.4//EN
TZID:Europe/Berlin
X-WR-TIMEZONE:Europe/Berlin
BEGIN:VEVENT
UID:79@dr-haertel.de
DTSTART;TZID=Europe/Berlin:20180324T100000
DTEND;TZID=Europe/Berlin:20180325T110000
DTSTAMP:20180212T110626Z
URL:https://www.dr-haertel.de/notdienste/zahnarzt-nur-sultani-3/
SUMMARY:Zahnarzt Nur Sultani
DESCRIPTION:05331-5191
CATEGORIES:Notdienst
LOCATION:Zahnarzt Nur Sultani\, Dr. Heinrich-Jasper-Straße 11\, Wolfenbüt
 tel\, Niedersachsen\, 38304\, Deutschland
GEO:52.1635241;10.527356300000065
X-APPLE-STRUCTURED-LOCATION;VALUE=URI;X-ADDRESS=Dr. Heinrich-Jasper-Straße
  11\, Wolfenbüttel\, Niedersachsen\, 38304\, Deutschland;X-APPLE-RADIUS=1
 00;X-TITLE=Zahnarzt Nur Sultani:geo:52.1635241,10.527356300000065
END:VEVENT
BEGIN:VTIMEZONE
TZID:Europe/Berlin
X-LIC-LOCATION:Europe/Berlin
BEGIN:STANDARD
DTSTART:20171029T020000
TZOFFSETFROM:+0200
TZOFFSETTO:+0100
TZNAME:CET
END:STANDARD
BEGIN:DAYLIGHT
DTSTART:20180325T030000
TZOFFSETFROM:+0100
TZOFFSETTO:+0200
TZNAME:CEST
END:DAYLIGHT
END:VTIMEZONE
END:VCALENDAR