BEGIN:VCALENDAR
VERSION:2.0
PRODID:-//wp-events-plugin.com//6.4.6.4//EN
TZID:Europe/Berlin
X-WR-TIMEZONE:Europe/Berlin
BEGIN:VEVENT
UID:616@dr-haertel.de
DTSTART;TZID=Europe/Berlin;VALUE=DATE:20260110
DTEND;TZID=Europe/Berlin;VALUE=DATE:20260112
DTSTAMP:20260102T083453Z
URL:https://www.dr-haertel.de/notdienste/zahnarzt-nur-sultani-17/
SUMMARY:Zahnarzt Nur Sultani
DESCRIPTION:05331-41030\n\nBehandlungszeit:\n\n10-11 Uhr
CATEGORIES:Notdienst
LOCATION:Zahnarzt Nur Sultani\, Dr. Heinrich-Jasper-Straße 11\, Wolfenbüt
 tel\, Niedersachsen\, 38304\, Deutschland
GEO:52.1635241;10.527356300000065
X-APPLE-STRUCTURED-LOCATION;VALUE=URI;X-ADDRESS=Dr. Heinrich-Jasper-Straße
  11\, Wolfenbüttel\, Niedersachsen\, 38304\, Deutschland;X-APPLE-RADIUS=1
 00;X-TITLE=Zahnarzt Nur Sultani:geo:52.1635241,10.527356300000065
END:VEVENT
BEGIN:VTIMEZONE
TZID:Europe/Berlin
X-LIC-LOCATION:Europe/Berlin
BEGIN:STANDARD
DTSTART:20251026T020000
TZOFFSETFROM:+0200
TZOFFSETTO:+0100
TZNAME:CET
END:STANDARD
END:VTIMEZONE
END:VCALENDAR