BEGIN:VCALENDAR
VERSION:2.0
PRODID:-//wp-events-plugin.com//6.4.6.4//EN
TZID:Europe/Berlin
X-WR-TIMEZONE:Europe/Berlin
BEGIN:VEVENT
UID:605@dr-haertel.de
DTSTART;TZID=Europe/Berlin;VALUE=DATE:20251206
DTEND;TZID=Europe/Berlin;VALUE=DATE:20251208
DTSTAMP:20250904T094816Z
URL:https://www.dr-haertel.de/notdienste/zahnarzt-martin-schmidt-5/
SUMMARY:Zahnarzt Martin Schmidt
DESCRIPTION:Telefon: 05331-908820\n\nBehandlungszeit: 10-11 Uhr
CATEGORIES:Notdienst
LOCATION:Zahnarzt Martin Schmidt\, Neuer Weg 89\, Wolfenbüttel\, 38300\, D
 eutschland
GEO:52.169379;10.54123
X-APPLE-STRUCTURED-LOCATION;VALUE=URI;X-ADDRESS=Neuer Weg 89\, Wolfenbütte
 l\, 38300\, Deutschland;X-APPLE-RADIUS=100;X-TITLE=Zahnarzt Martin Schmidt
 :geo:52.169379,10.54123
END:VEVENT
BEGIN:VTIMEZONE
TZID:Europe/Berlin
X-LIC-LOCATION:Europe/Berlin
BEGIN:STANDARD
DTSTART:20251026T020000
TZOFFSETFROM:+0200
TZOFFSETTO:+0100
TZNAME:CET
END:STANDARD
END:VTIMEZONE
END:VCALENDAR