BEGIN:VCALENDAR
VERSION:2.0
PRODID:-//wp-events-plugin.com//6.4.6.4//EN
TZID:Europe/Berlin
X-WR-TIMEZONE:Europe/Berlin
BEGIN:VEVENT
UID:614@dr-haertel.de
DTSTART;TZID=Europe/Berlin;VALUE=DATE:20260102
DTEND;TZID=Europe/Berlin;VALUE=DATE:20260103
DTSTAMP:20251020T083430Z
URL:https://www.dr-haertel.de/notdienste/zahnarzt-joerg-bertelmann-13/
SUMMARY:Zahnarzt Jörg Bertelmann
DESCRIPTION:05331-5191\n\nBehandlungszeit:\n\n10-11 Uhr
CATEGORIES:Notdienst
LOCATION:Zahnarzt Jörg Bertelmann\, Dr. Heinrich-Jasper-Straße 11\, Wolfe
 nbüttel\, N\, 38304\, Deutschland
GEO:52.163524;10.527356
X-APPLE-STRUCTURED-LOCATION;VALUE=URI;X-ADDRESS=Dr. Heinrich-Jasper-Straße
  11\, Wolfenbüttel\, N\, 38304\, Deutschland;X-APPLE-RADIUS=100;X-TITLE=Z
 ahnarzt Jörg Bertelmann:geo:52.163524,10.527356
END:VEVENT
BEGIN:VTIMEZONE
TZID:Europe/Berlin
X-LIC-LOCATION:Europe/Berlin
BEGIN:STANDARD
DTSTART:20251026T020000
TZOFFSETFROM:+0200
TZOFFSETTO:+0100
TZNAME:CET
END:STANDARD
END:VTIMEZONE
END:VCALENDAR