BEGIN:VCALENDAR
VERSION:2.0
PRODID:-//wp-events-plugin.com//6.4.6.4//EN
TZID:Europe/Berlin
X-WR-TIMEZONE:Europe/Berlin
BEGIN:VEVENT
UID:511@dr-haertel.de
DTSTART;TZID=Europe/Berlin;VALUE=DATE:20240720
DTEND;TZID=Europe/Berlin;VALUE=DATE:20240722
DTSTAMP:20240328T085147Z
URL:https://www.dr-haertel.de/notdienste/zahnarzt-joerg-bertelmann-11/
SUMMARY:Zahnarzt Jörg Bertelmann
DESCRIPTION:Tel:05331-5191\n\nBehandlungszeit:\n\n10-11 Uhr
CATEGORIES:Notdienst
LOCATION:Zahnarzt Jörg Bertelmann\, Dr. Heinrich-Jasper-Straße 11\, Wolfe
 nbüttel\, N\, 38304\, Deutschland
GEO:52.163524;10.527356
X-APPLE-STRUCTURED-LOCATION;VALUE=URI;X-ADDRESS=Dr. Heinrich-Jasper-Straße
  11\, Wolfenbüttel\, N\, 38304\, Deutschland;X-APPLE-RADIUS=100;X-TITLE=Z
 ahnarzt Jörg Bertelmann:geo:52.163524,10.527356
END:VEVENT
BEGIN:VTIMEZONE
TZID:Europe/Berlin
X-LIC-LOCATION:Europe/Berlin
BEGIN:DAYLIGHT
DTSTART:20240331T030000
TZOFFSETFROM:+0100
TZOFFSETTO:+0200
TZNAME:CEST
END:DAYLIGHT
END:VTIMEZONE
END:VCALENDAR