BEGIN:VCALENDAR
VERSION:2.0
PRODID:-//wp-events-plugin.com//6.4.6.4//EN
TZID:Europe/Berlin
X-WR-TIMEZONE:Europe/Berlin
BEGIN:VEVENT
UID:619@dr-haertel.de
DTSTART;TZID=Europe/Berlin;VALUE=DATE:20260131
DTEND;TZID=Europe/Berlin;VALUE=DATE:20260202
DTSTAMP:20260102T083856Z
URL:https://www.dr-haertel.de/notdienste/zahnarzt-jan-henrik-wielert-13/
SUMMARY:Zahnarzt Jan-Henrik Wielert
DESCRIPTION:05331-73229\n\nBehandlungszeit:\n\n10-11 Uhr
CATEGORIES:Notdienst
LOCATION:Zahnarzt Jan-Henrik Wielert\, Rosenwall 2b\, Wolfenbüttel\, Niede
 rsachsen\, 38300\, Deutschland
GEO:52.1666;10.53949
X-APPLE-STRUCTURED-LOCATION;VALUE=URI;X-ADDRESS=Rosenwall 2b\, Wolfenbütte
 l\, Niedersachsen\, 38300\, Deutschland;X-APPLE-RADIUS=100;X-TITLE=Zahnarz
 t Jan-Henrik Wielert:geo:52.1666,10.53949
END:VEVENT
BEGIN:VTIMEZONE
TZID:Europe/Berlin
X-LIC-LOCATION:Europe/Berlin
BEGIN:STANDARD
DTSTART:20251026T020000
TZOFFSETFROM:+0200
TZOFFSETTO:+0100
TZNAME:CET
END:STANDARD
END:VTIMEZONE
END:VCALENDAR