BEGIN:VCALENDAR
VERSION:2.0
PRODID:-//wp-events-plugin.com//6.4.6.4//EN
TZID:Europe/Berlin
X-WR-TIMEZONE:Europe/Berlin
BEGIN:VEVENT
UID:46@dr-haertel.de
DTSTART;TZID=Europe/Berlin:20171003T100000
DTEND;TZID=Europe/Berlin:20171003T110000
DTSTAMP:20170929T092040Z
URL:https://www.dr-haertel.de/notdienste/zahnarzt-helmut-schmidt-2/
SUMMARY:Zahnarzt Helmut Schmidt
DESCRIPTION:05331-8559618
CATEGORIES:Notdienst
LOCATION:Zahnarzt Helmut Schmidt\, Dr. Heinrich-Jasper-Straße 59\, Wolfenb
 üttel\, Niedersachsen\, 38304\, Deutschland
GEO:52.16469;10.52195000000006
X-APPLE-STRUCTURED-LOCATION;VALUE=URI;X-ADDRESS=Dr. Heinrich-Jasper-Straße
  59\, Wolfenbüttel\, Niedersachsen\, 38304\, Deutschland;X-APPLE-RADIUS=1
 00;X-TITLE=Zahnarzt Helmut Schmidt:geo:52.16469,10.52195000000006
END:VEVENT
BEGIN:VTIMEZONE
TZID:Europe/Berlin
X-LIC-LOCATION:Europe/Berlin
BEGIN:DAYLIGHT
DTSTART:20170326T030000
TZOFFSETFROM:+0100
TZOFFSETTO:+0200
TZNAME:CEST
END:DAYLIGHT
END:VTIMEZONE
END:VCALENDAR