BEGIN:VCALENDAR
VERSION:2.0
PRODID:-//wp-events-plugin.com//6.4.6.4//EN
TZID:Europe/Berlin
X-WR-TIMEZONE:Europe/Berlin
BEGIN:VEVENT
UID:352@dr-haertel.de
DTSTART;TZID=Europe/Berlin;VALUE=DATE:20220319
DTEND;TZID=Europe/Berlin;VALUE=DATE:20220321
DTSTAMP:20220315T133605Z
URL:https://www.dr-haertel.de/notdienste/zahnarzt-gunter-hagemann-8/
SUMMARY:Zahnarzt Gunter Hagemann
DESCRIPTION:05331-75750\n\nBehandlungszeit:\n\n10-11 Uhr
CATEGORIES:Notdienst
LOCATION:Zahnarzt Gunter Hagemann\, Neuer Weg 51 C\, Wolfenbüttel\, Deutsc
 hland\, 38300\, Deutschland
GEO:52.18104779999999;10.536021
X-APPLE-STRUCTURED-LOCATION;VALUE=URI;X-ADDRESS=Neuer Weg 51 C\, Wolfenbüt
 tel\, Deutschland\, 38300\, Deutschland;X-APPLE-RADIUS=100;X-TITLE=Zahnarz
 t Gunter Hagemann:geo:52.18104779999999,10.536021
END:VEVENT
BEGIN:VTIMEZONE
TZID:Europe/Berlin
X-LIC-LOCATION:Europe/Berlin
BEGIN:STANDARD
DTSTART:20211031T020000
TZOFFSETFROM:+0200
TZOFFSETTO:+0100
TZNAME:CET
END:STANDARD
END:VTIMEZONE
END:VCALENDAR