BEGIN:VCALENDAR
VERSION:2.0
PRODID:-//wp-events-plugin.com//6.4.6.4//EN
TZID:Europe/Berlin
X-WR-TIMEZONE:Europe/Berlin
BEGIN:VEVENT
UID:229@dr-haertel.de
DTSTART;TZID=Europe/Berlin;VALUE=DATE:20200509
DTEND;TZID=Europe/Berlin;VALUE=DATE:20200511
DTSTAMP:20200509T090311Z
URL:https://www.dr-haertel.de/notdienste/zahnarzt-gunter-hagemann-5/
SUMMARY:Zahnarzt Dr. Linus Gödeke
DESCRIPTION:05331-75750\n\nBehandlungszeit:\n\n10-11 Uhr
CATEGORIES:Notdienst
LOCATION:Zahnarzt Dr. Linus Gödeke\, Neuer Weg 95\, Wolfenbüttel\, Nieder
 sachsen\, 38300\, Deutschland
GEO:52.1675972;10.5407974
X-APPLE-STRUCTURED-LOCATION;VALUE=URI;X-ADDRESS=Neuer Weg 95\, Wolfenbütte
 l\, Niedersachsen\, 38300\, Deutschland;X-APPLE-RADIUS=100;X-TITLE=Zahnarz
 t Dr. Linus Gödeke:geo:52.1675972,10.5407974
END:VEVENT
BEGIN:VTIMEZONE
TZID:Europe/Berlin
X-LIC-LOCATION:Europe/Berlin
BEGIN:DAYLIGHT
DTSTART:20200329T030000
TZOFFSETFROM:+0100
TZOFFSETTO:+0200
TZNAME:CEST
END:DAYLIGHT
END:VTIMEZONE
END:VCALENDAR