BEGIN:VCALENDAR
VERSION:2.0
PRODID:-//wp-events-plugin.com//6.4.6.4//EN
TZID:Europe/Berlin
X-WR-TIMEZONE:Europe/Berlin
BEGIN:VEVENT
UID:311@dr-haertel.de
DTSTART;TZID=Europe/Berlin;VALUE=DATE:20210731
DTEND;TZID=Europe/Berlin;VALUE=DATE:20210802
DTSTAMP:20210104T101651Z
URL:https://www.dr-haertel.de/notdienste/zahnarzt-dr-michael-saridakis-7/
SUMMARY:Zahnarzt Dr. Michael Saridakis
DESCRIPTION:05331-29041\n\nBehandlungszeit:\n\n10-11 Uhr
CATEGORIES:Notdienst
LOCATION:Zahnarzt Dr. Michael Saridakis\, Kanzleistraße 20\, Wolfenbüttel
 \, Niedersachsen\, 38300\, Deutschland
GEO:52.16310439999999;10.535267900000008
X-APPLE-STRUCTURED-LOCATION;VALUE=URI;X-ADDRESS=Kanzleistraße 20\, Wolfenb
 üttel\, Niedersachsen\, 38300\, Deutschland;X-APPLE-RADIUS=100;X-TITLE=Za
 hnarzt Dr. Michael Saridakis:geo:52.16310439999999,10.535267900000008
END:VEVENT
BEGIN:VTIMEZONE
TZID:Europe/Berlin
X-LIC-LOCATION:Europe/Berlin
BEGIN:DAYLIGHT
DTSTART:20210328T030000
TZOFFSETFROM:+0100
TZOFFSETTO:+0200
TZNAME:CEST
END:DAYLIGHT
END:VTIMEZONE
END:VCALENDAR