BEGIN:VCALENDAR
VERSION:2.0
PRODID:-//wp-events-plugin.com//6.4.6.4//EN
TZID:Europe/Berlin
X-WR-TIMEZONE:Europe/Berlin
BEGIN:VEVENT
UID:617@dr-haertel.de
DTSTART;TZID=Europe/Berlin;VALUE=DATE:20260117
DTEND;TZID=Europe/Berlin;VALUE=DATE:20260119
DTSTAMP:20260102T083637Z
URL:https://www.dr-haertel.de/notdienste/zahnarzt-dr-kay-todt-3/
SUMMARY:Zahnarzt Dr. Kay Todt
DESCRIPTION:05331-929555\n\nBehandlungszeit:\n\n10-11 Uhr
CATEGORIES:Notdienst
LOCATION:Zahnarzt Dr. Kaj Todt\, Kleiner Zimmerhof 10\, Wolfenbüttel\, Nie
 dersachsen\, 38300\, Deutschland
GEO:52.16376;10.533590000000004
X-APPLE-STRUCTURED-LOCATION;VALUE=URI;X-ADDRESS=Kleiner Zimmerhof 10\, Wolf
 enbüttel\, Niedersachsen\, 38300\, Deutschland;X-APPLE-RADIUS=100;X-TITLE
 =Zahnarzt Dr. Kaj Todt:geo:52.16376,10.533590000000004
END:VEVENT
BEGIN:VTIMEZONE
TZID:Europe/Berlin
X-LIC-LOCATION:Europe/Berlin
BEGIN:STANDARD
DTSTART:20251026T020000
TZOFFSETFROM:+0200
TZOFFSETTO:+0100
TZNAME:CET
END:STANDARD
END:VTIMEZONE
END:VCALENDAR