BEGIN:VCALENDAR
VERSION:2.0
PRODID:-//wp-events-plugin.com//6.4.6.4//EN
TZID:Europe/Berlin
X-WR-TIMEZONE:Europe/Berlin
BEGIN:VEVENT
UID:171@dr-haertel.de
DTSTART;TZID=Europe/Berlin;VALUE=DATE:20190727
DTEND;TZID=Europe/Berlin;VALUE=DATE:20190729
DTSTAMP:20190718T124048Z
URL:https://www.dr-haertel.de/notdienste/zahnarzt-dr-kaj-todt-5/
SUMMARY:Zahnarzt Dr. Kaj Todt
DESCRIPTION:05331-929555\n\nBehandlungszeit:\n\n10-11 Uhr
CATEGORIES:Notdienst
LOCATION:Zahnarzt Dr. Kaj Todt\, Kleiner Zimmerhof 10\, Wolfenbüttel\, Nie
 dersachsen\, 38300\, Deutschland
GEO:52.16376;10.533590000000004
X-APPLE-STRUCTURED-LOCATION;VALUE=URI;X-ADDRESS=Kleiner Zimmerhof 10\, Wolf
 enbüttel\, Niedersachsen\, 38300\, Deutschland;X-APPLE-RADIUS=100;X-TITLE
 =Zahnarzt Dr. Kaj Todt:geo:52.16376,10.533590000000004
END:VEVENT
BEGIN:VTIMEZONE
TZID:Europe/Berlin
X-LIC-LOCATION:Europe/Berlin
BEGIN:DAYLIGHT
DTSTART:20190331T030000
TZOFFSETFROM:+0100
TZOFFSETTO:+0200
TZNAME:CEST
END:DAYLIGHT
END:VTIMEZONE
END:VCALENDAR