BEGIN:VCALENDAR
VERSION:2.0
PRODID:-//wp-events-plugin.com//6.4.6.4//EN
TZID:Europe/Berlin
X-WR-TIMEZONE:Europe/Berlin
BEGIN:VEVENT
UID:245@dr-haertel.de
DTSTART;TZID=Europe/Berlin;VALUE=DATE:20200808
DTEND;TZID=Europe/Berlin;VALUE=DATE:20200810
DTSTAMP:20200210T130613Z
URL:https://www.dr-haertel.de/notdienste/zahnarzt-dr-hartmut-priess-5/
SUMMARY:Zahnarzt Dr. Hartmut Prieß
DESCRIPTION:05331-73229\n\nBehandlungszeit:\n\n10-11 Uhr
CATEGORIES:Notdienst
LOCATION:Zahnarzt Dr. Hartmund Prieß\, Rosenwall 2b\, Wolfenbüttel\, Nied
 ersachsen\, 38302\, Deutschland
GEO:52.1666;10.53949
X-APPLE-STRUCTURED-LOCATION;VALUE=URI;X-ADDRESS=Rosenwall 2b\, Wolfenbütte
 l\, Niedersachsen\, 38302\, Deutschland;X-APPLE-RADIUS=100;X-TITLE=Zahnarz
 t Dr. Hartmund Prieß:geo:52.1666,10.53949
END:VEVENT
BEGIN:VTIMEZONE
TZID:Europe/Berlin
X-LIC-LOCATION:Europe/Berlin
BEGIN:DAYLIGHT
DTSTART:20200329T030000
TZOFFSETFROM:+0100
TZOFFSETTO:+0200
TZNAME:CEST
END:DAYLIGHT
END:VTIMEZONE
END:VCALENDAR