BEGIN:VCALENDAR
VERSION:2.0
PRODID:-//wp-events-plugin.com//6.4.6.4//EN
TZID:Europe/Berlin
X-WR-TIMEZONE:Europe/Berlin
BEGIN:VEVENT
UID:618@dr-haertel.de
DTSTART;TZID=Europe/Berlin;VALUE=DATE:20260124
DTEND;TZID=Europe/Berlin;VALUE=DATE:20260126
DTSTAMP:20260102T083742Z
URL:https://www.dr-haertel.de/notdienste/zahnarzt-dr-gordon-weidner-13/
SUMMARY:Zahnarzt Dr. Gordon Weidner
DESCRIPTION:05331-6021\n\nBehandlungszeit:\n\n10-11 Uhr
CATEGORIES:Notdienst
LOCATION:Zahnarzt Dr. Gordon W. Weidner\, Kurzer Kamp 3\, Denkte\, Niedersa
 chsen\, 38321\, Deutschland
GEO:52.14626999999999;10.607089999999971
X-APPLE-STRUCTURED-LOCATION;VALUE=URI;X-ADDRESS=Kurzer Kamp 3\, Denkte\, Ni
 edersachsen\, 38321\, Deutschland;X-APPLE-RADIUS=100;X-TITLE=Zahnarzt Dr. 
 Gordon W. Weidner:geo:52.14626999999999,10.607089999999971
END:VEVENT
BEGIN:VTIMEZONE
TZID:Europe/Berlin
X-LIC-LOCATION:Europe/Berlin
BEGIN:STANDARD
DTSTART:20251026T020000
TZOFFSETFROM:+0200
TZOFFSETTO:+0100
TZNAME:CET
END:STANDARD
END:VTIMEZONE
END:VCALENDAR