BEGIN:VCALENDAR
VERSION:2.0
PRODID:-//wp-events-plugin.com//6.4.6.4//EN
TZID:Europe/Berlin
X-WR-TIMEZONE:Europe/Berlin
BEGIN:VEVENT
UID:281@dr-haertel.de
DTSTART;TZID=Europe/Berlin;VALUE=DATE:20210220
DTEND;TZID=Europe/Berlin;VALUE=DATE:20210222
DTSTAMP:20210104T080149Z
URL:https://www.dr-haertel.de/notdienste/zahnarzt-dr-evgeniy-prives/
SUMMARY:Zahnarzt Dr. Evgeniy Prives
DESCRIPTION:05331-908820\n\nBehandlungszeit:\n\n10-11 Uhr
CATEGORIES:Notdienst
LOCATION:Zahnarzt Dr. Evgeniy Prives\, Neuer Weg 89\, Wolfenbüttel\, Niede
 rsachsen\, 38302\, Deutschland
GEO:52.169379;10.5412304
X-APPLE-STRUCTURED-LOCATION;VALUE=URI;X-ADDRESS=Neuer Weg 89\, Wolfenbütte
 l\, Niedersachsen\, 38302\, Deutschland;X-APPLE-RADIUS=100;X-TITLE=Zahnarz
 t Dr. Evgeniy Prives:geo:52.169379,10.5412304
END:VEVENT
BEGIN:VTIMEZONE
TZID:Europe/Berlin
X-LIC-LOCATION:Europe/Berlin
BEGIN:STANDARD
DTSTART:20201025T020000
TZOFFSETFROM:+0200
TZOFFSETTO:+0100
TZNAME:CET
END:STANDARD
END:VTIMEZONE
END:VCALENDAR