BEGIN:VCALENDAR
VERSION:2.0
PRODID:-//wp-events-plugin.com//6.4.6.4//EN
TZID:Europe/Berlin
X-WR-TIMEZONE:Europe/Berlin
BEGIN:VEVENT
UID:626@dr-haertel.de
DTSTART;TZID=Europe/Berlin;VALUE=DATE:20260321
DTEND;TZID=Europe/Berlin;VALUE=DATE:20260323
DTSTAMP:20260102T091756Z
URL:https://www.dr-haertel.de/notdienste/zahnarzt-dr-edzard-bleiss-5/
SUMMARY:Zahnarzt Dr. Edzard Bleiß
DESCRIPTION:05331-29041\n\nBehandlungszeit:\n\n10-11 Uhr
CATEGORIES:Notdienst
LOCATION:Zahnarzt Dr. Edzard Bleis\, Kanzleistraße 20\, Wolfenbüttel\, Ni
 edersachsen\, 38300\, Deutschland
GEO:52.16310439999999;10.535267900000008
X-APPLE-STRUCTURED-LOCATION;VALUE=URI;X-ADDRESS=Kanzleistraße 20\, Wolfenb
 üttel\, Niedersachsen\, 38300\, Deutschland;X-APPLE-RADIUS=100;X-TITLE=Za
 hnarzt Dr. Edzard Bleis:geo:52.16310439999999,10.535267900000008
END:VEVENT
BEGIN:VTIMEZONE
TZID:Europe/Berlin
X-LIC-LOCATION:Europe/Berlin
BEGIN:STANDARD
DTSTART:20251026T020000
TZOFFSETFROM:+0200
TZOFFSETTO:+0100
TZNAME:CET
END:STANDARD
END:VTIMEZONE
END:VCALENDAR