BEGIN:VCALENDAR
VERSION:2.0
PRODID:-//wp-events-plugin.com//6.4.6.4//EN
TZID:Europe/Berlin
X-WR-TIMEZONE:Europe/Berlin
BEGIN:VEVENT
UID:475@dr-haertel.de
DTSTART;TZID=Europe/Berlin;VALUE=DATE:20240113
DTEND;TZID=Europe/Berlin;VALUE=DATE:20240115
DTSTAMP:20240102T084806Z
URL:https://www.dr-haertel.de/notdienste/zahnarzt-dr-christian-junco-4/
SUMMARY:Zahnarzt Jochen Petersen
DESCRIPTION:05331-908820\n\nBehandlungszeit: \n\n10-11 Uhr
CATEGORIES:Notdienst
LOCATION:Zahnarzt Jochen Petersen\, Harzstraße 26\, Wolfenbüttel\, Nieder
 sachsen\, 38300\, Deutschland
GEO:52.161013;10.536159399999974
X-APPLE-STRUCTURED-LOCATION;VALUE=URI;X-ADDRESS=Harzstraße 26\, Wolfenbüt
 tel\, Niedersachsen\, 38300\, Deutschland;X-APPLE-RADIUS=100;X-TITLE=Zahna
 rzt Jochen Petersen:geo:52.161013,10.536159399999974
END:VEVENT
BEGIN:VTIMEZONE
TZID:Europe/Berlin
X-LIC-LOCATION:Europe/Berlin
BEGIN:STANDARD
DTSTART:20231029T020000
TZOFFSETFROM:+0200
TZOFFSETTO:+0100
TZNAME:CET
END:STANDARD
END:VTIMEZONE
END:VCALENDAR