BEGIN:VCALENDAR
VERSION:2.0
PRODID:-//wp-events-plugin.com//6.4.6.4//EN
TZID:Europe/Berlin
X-WR-TIMEZONE:Europe/Berlin
BEGIN:VEVENT
UID:329@dr-haertel.de
DTSTART;TZID=Europe/Berlin;VALUE=DATE:20211204
DTEND;TZID=Europe/Berlin;VALUE=DATE:20211206
DTSTAMP:20211013T104008Z
URL:https://www.dr-haertel.de/notdienste/zahnarzt-dr-burghard-bode-8/
SUMMARY:Zahnärztin Frau Herrmann
DESCRIPTION:05331-907299\n\nBehandlungszeit:\n\n10-11 Uhr
CATEGORIES:Notdienst
LOCATION:Zahnärztin Frau Herrmann\, Brockenblick 8\, Wolfenbüttel\, 38302
 \, Deutschland
GEO:52.1709875;10.5478038
X-APPLE-STRUCTURED-LOCATION;VALUE=URI;X-ADDRESS=Brockenblick 8\, Wolfenbüt
 tel\, 38302\, Deutschland;X-APPLE-RADIUS=100;X-TITLE=Zahnärztin Frau Herr
 mann:geo:52.1709875,10.5478038
END:VEVENT
BEGIN:VTIMEZONE
TZID:Europe/Berlin
X-LIC-LOCATION:Europe/Berlin
BEGIN:STANDARD
DTSTART:20211031T020000
TZOFFSETFROM:+0200
TZOFFSETTO:+0100
TZNAME:CET
END:STANDARD
END:VTIMEZONE
END:VCALENDAR