BEGIN:VCALENDAR
VERSION:2.0
PRODID:-//wp-events-plugin.com//6.4.6.4//EN
TZID:Europe/Berlin
X-WR-TIMEZONE:Europe/Berlin
BEGIN:VEVENT
UID:99@dr-haertel.de
DTSTART;TZID=Europe/Berlin:20180818T100000
DTEND;TZID=Europe/Berlin:20180819T110000
DTSTAMP:20180425T085137Z
URL:https://www.dr-haertel.de/notdienste/zahnarzt-dr-burghard-bode-2/
SUMMARY:Zahnarzt Dr. Burghard Bode
DESCRIPTION:05331-907243
CATEGORIES:Notdienst
LOCATION:Zahnarzt Dr. Burghard Bode\, Kleine Breite 10\, Wolfenbüttel\, Ni
 edersachsen\, 38302\, Deutschland
GEO:52.1717662;10.542260499999998
X-APPLE-STRUCTURED-LOCATION;VALUE=URI;X-ADDRESS=Kleine Breite 10\, Wolfenb
 üttel\, Niedersachsen\, 38302\, Deutschland;X-APPLE-RADIUS=100;X-TITLE=Za
 hnarzt Dr. Burghard Bode:geo:52.1717662,10.542260499999998
END:VEVENT
BEGIN:VTIMEZONE
TZID:Europe/Berlin
X-LIC-LOCATION:Europe/Berlin
BEGIN:DAYLIGHT
DTSTART:20180325T030000
TZOFFSETFROM:+0100
TZOFFSETTO:+0200
TZNAME:CEST
END:DAYLIGHT
END:VTIMEZONE
END:VCALENDAR