BEGIN:VCALENDAR
VERSION:2.0
PRODID:-//wp-events-plugin.com//6.4.6.4//EN
TZID:Europe/Berlin
X-WR-TIMEZONE:Europe/Berlin
BEGIN:VEVENT
UID:513@dr-haertel.de
DTSTART;TZID=Europe/Berlin;VALUE=DATE:20240803
DTEND;TZID=Europe/Berlin;VALUE=DATE:20240805
DTSTAMP:20240328T085624Z
URL:https://www.dr-haertel.de/notdienste/zahnarzt-dr-burghard-bode-12/
SUMMARY:Zahnarzt Dr. Burghard Bode
DESCRIPTION:Tel:05331-908820\n\nBehandlungszeit:\n\n10-11 Uhr
CATEGORIES:Notdienst
LOCATION:Zahnarzt Dr. Burghard Bode\, Neuer Weg 89\, Wolfenbüttel\, Deutsc
 hland\, 38300\, Deutschland
GEO:52.169379;10.54123
X-APPLE-STRUCTURED-LOCATION;VALUE=URI;X-ADDRESS=Neuer Weg 89\, Wolfenbütte
 l\, Deutschland\, 38300\, Deutschland;X-APPLE-RADIUS=100;X-TITLE=Zahnarzt 
 Dr. Burghard Bode:geo:52.169379,10.54123
END:VEVENT
BEGIN:VTIMEZONE
TZID:Europe/Berlin
X-LIC-LOCATION:Europe/Berlin
BEGIN:DAYLIGHT
DTSTART:20240331T030000
TZOFFSETFROM:+0100
TZOFFSETTO:+0200
TZNAME:CEST
END:DAYLIGHT
END:VTIMEZONE
END:VCALENDAR