BEGIN:VCALENDAR
VERSION:2.0
PRODID:-//wp-events-plugin.com//6.4.6.4//EN
TZID:Europe/Berlin
X-WR-TIMEZONE:Europe/Berlin
BEGIN:VEVENT
UID:510@dr-haertel.de
DTSTART;TZID=Europe/Berlin;VALUE=DATE:20240713
DTEND;TZID=Europe/Berlin;VALUE=DATE:20240715
DTSTAMP:20240328T085042Z
URL:https://www.dr-haertel.de/notdienste/zahnaerztin-stefanie-berghoff-6/
SUMMARY:Zahnärztin Stefanie Berghoff
DESCRIPTION:Tel:05331-887440\n\nBehandlungszeit:\n\n10-11 Uhr
CATEGORIES:Notdienst
LOCATION:Zahnärztin Stefanie Berghof\, Cranachstraße 56\, Wolfenbüttel\,
  Niedersachsen\, 38300\, Deutschland
GEO:52.1542655;10.558703199999968
X-APPLE-STRUCTURED-LOCATION;VALUE=URI;X-ADDRESS=Cranachstraße 56\, Wolfenb
 üttel\, Niedersachsen\, 38300\, Deutschland;X-APPLE-RADIUS=100;X-TITLE=Za
 hnärztin Stefanie Berghof:geo:52.1542655,10.558703199999968
END:VEVENT
BEGIN:VTIMEZONE
TZID:Europe/Berlin
X-LIC-LOCATION:Europe/Berlin
BEGIN:DAYLIGHT
DTSTART:20240331T030000
TZOFFSETFROM:+0100
TZOFFSETTO:+0200
TZNAME:CEST
END:DAYLIGHT
END:VTIMEZONE
END:VCALENDAR