BEGIN:VCALENDAR
VERSION:2.0
PRODID:-//wp-events-plugin.com//6.4.6.4//EN
TZID:Europe/Berlin
X-WR-TIMEZONE:Europe/Berlin
BEGIN:VEVENT
UID:503@dr-haertel.de
DTSTART;TZID=Europe/Berlin;VALUE=DATE:20240525
DTEND;TZID=Europe/Berlin;VALUE=DATE:20240527
DTSTAMP:20240328T083634Z
URL:https://www.dr-haertel.de/notdienste/zahnaerztin-stavroula-vanikioti-2
 /
SUMMARY:Zahnärztin Stavroula Vanikioti
DESCRIPTION:Tel:05331-5191\n\nBehandlungszeit:\n\n10-11 Uhr
CATEGORIES:Notdienst
LOCATION:Zahnärztin Stavroula Vanikioti\, Dr. Heinrich-Jasper-Straße 11\,
  Wolfenbüttel\, 38300\, Deutschland
X-APPLE-STRUCTURED-LOCATION;VALUE=URI;X-ADDRESS=Dr. Heinrich-Jasper-Straße
  11\, Wolfenbüttel\, 38300\, Deutschland;X-APPLE-RADIUS=100;X-TITLE=Zahn
 ärztin Stavroula Vanikioti:geo:0,0
END:VEVENT
BEGIN:VTIMEZONE
TZID:Europe/Berlin
X-LIC-LOCATION:Europe/Berlin
BEGIN:DAYLIGHT
DTSTART:20240331T030000
TZOFFSETFROM:+0100
TZOFFSETTO:+0200
TZNAME:CEST
END:DAYLIGHT
END:VTIMEZONE
END:VCALENDAR