BEGIN:VCALENDAR
VERSION:2.0
PRODID:-//wp-events-plugin.com//6.4.6.4//EN
TZID:Europe/Berlin
X-WR-TIMEZONE:Europe/Berlin
BEGIN:VEVENT
UID:622@dr-haertel.de
DTSTART;TZID=Europe/Berlin;VALUE=DATE:20260221
DTEND;TZID=Europe/Berlin;VALUE=DATE:20260223
DTSTAMP:20260102T091111Z
URL:https://www.dr-haertel.de/notdienste/zahnaerztin-sarah-zimmerman/
SUMMARY:Zahnärztin Sarah Zimmerman
DESCRIPTION:05331-6021\n\nBehandlungszeit:\n\n10-11 Uhr
CATEGORIES:Notdienst
LOCATION:Zahnärztin Sarah ZImmermann\, Kurzer Kamp 3\, Denkte\, Deutschlan
 d
GEO:52.146203;10.607213
X-APPLE-STRUCTURED-LOCATION;VALUE=URI;X-ADDRESS=Kurzer Kamp 3\, Denkte\, De
 utschland;X-APPLE-RADIUS=100;X-TITLE=Zahnärztin Sarah ZImmermann:geo:52.1
 46203,10.607213
END:VEVENT
BEGIN:VTIMEZONE
TZID:Europe/Berlin
X-LIC-LOCATION:Europe/Berlin
BEGIN:STANDARD
DTSTART:20251026T020000
TZOFFSETFROM:+0200
TZOFFSETTO:+0100
TZNAME:CET
END:STANDARD
END:VTIMEZONE
END:VCALENDAR