BEGIN:VCALENDAR
VERSION:2.0
PRODID:-//wp-events-plugin.com//6.4.6.4//EN
TZID:Europe/Berlin
X-WR-TIMEZONE:Europe/Berlin
BEGIN:VEVENT
UID:297@dr-haertel.de
DTSTART;TZID=Europe/Berlin;VALUE=DATE:20210513
DTEND;TZID=Europe/Berlin;VALUE=DATE:20210514
DTSTAMP:20210104T083733Z
URL:https://www.dr-haertel.de/notdienste/zahnaerztin-nicola-hoffmann/
SUMMARY:Zahnärztin Nicola Hoffmann
DESCRIPTION:05331-908820\n\nBehandlungszeit:\n\n10-11 Uhr
CATEGORIES:Notdienst
LOCATION:Zahnärztin Nicola Hoffmann\, Neuer Weg 89\, Wolfenbüttel\, Niede
 rsachsen\, 38302\, Deutschland
GEO:52.169379;10.5412304
X-APPLE-STRUCTURED-LOCATION;VALUE=URI;X-ADDRESS=Neuer Weg 89\, Wolfenbütte
 l\, Niedersachsen\, 38302\, Deutschland;X-APPLE-RADIUS=100;X-TITLE=Zahnär
 ztin Nicola Hoffmann:geo:52.169379,10.5412304
END:VEVENT
BEGIN:VTIMEZONE
TZID:Europe/Berlin
X-LIC-LOCATION:Europe/Berlin
BEGIN:DAYLIGHT
DTSTART:20210328T030000
TZOFFSETFROM:+0100
TZOFFSETTO:+0200
TZNAME:CEST
END:DAYLIGHT
END:VTIMEZONE
END:VCALENDAR