BEGIN:VCALENDAR
VERSION:2.0
PRODID:-//wp-events-plugin.com//6.4.6.4//EN
TZID:Europe/Berlin
X-WR-TIMEZONE:Europe/Berlin
BEGIN:VEVENT
UID:422@dr-haertel.de
DTSTART;TZID=Europe/Berlin;VALUE=DATE:20230429
DTEND;TZID=Europe/Berlin;VALUE=DATE:20230501
DTSTAMP:20230102T093936Z
URL:https://www.dr-haertel.de/notdienste/zahnaerztin-nadine-mewes-7/
SUMMARY:Zahnärztin Nadine Mewes
DESCRIPTION:05331-27688\n\nBehandlungszeit:\n\n10-11 Uhr
CATEGORIES:Notdienst
LOCATION:Zahnärztin Nadine Mewes\, Großer Zimmerhof 29\, Wolfenbüttel\, 
 38300\, Deutschland
GEO:52.1623622;10.5337218
X-APPLE-STRUCTURED-LOCATION;VALUE=URI;X-ADDRESS=Großer Zimmerhof 29\, Wolf
 enbüttel\, 38300\, Deutschland;X-APPLE-RADIUS=100;X-TITLE=Zahnärztin Nad
 ine Mewes:geo:52.1623622,10.5337218
END:VEVENT
BEGIN:VTIMEZONE
TZID:Europe/Berlin
X-LIC-LOCATION:Europe/Berlin
BEGIN:DAYLIGHT
DTSTART:20230326T030000
TZOFFSETFROM:+0100
TZOFFSETTO:+0200
TZNAME:CEST
END:DAYLIGHT
END:VTIMEZONE
END:VCALENDAR