BEGIN:VCALENDAR
VERSION:2.0
PRODID:-//wp-events-plugin.com//6.4.6.4//EN
TZID:Europe/Berlin
X-WR-TIMEZONE:Europe/Berlin
BEGIN:VEVENT
UID:621@dr-haertel.de
DTSTART;TZID=Europe/Berlin:20260214T000000
DTEND;TZID=Europe/Berlin:20260215T000000
DTSTAMP:20260102T084221Z
URL:https://www.dr-haertel.de/notdienste/zahnaerztin-isabelle-ziehe-4/
SUMMARY:Zahnärztin Isabelle Ziehe
DESCRIPTION:05331-73229\n\nBehandlungszeit:\n\n10-11 Uhr
CATEGORIES:Notdienst
LOCATION:Zahnärztin Isabelle Ziehe\, Rosenwall 2b\, Wolfenbüttel\, 38300\
 , Deutschland
X-APPLE-STRUCTURED-LOCATION;VALUE=URI;X-ADDRESS=Rosenwall 2b\, Wolfenbütte
 l\, 38300\, Deutschland;X-APPLE-RADIUS=100;X-TITLE=Zahnärztin Isabelle Zi
 ehe:geo:0,0
END:VEVENT
BEGIN:VTIMEZONE
TZID:Europe/Berlin
X-LIC-LOCATION:Europe/Berlin
BEGIN:STANDARD
DTSTART:20251026T020000
TZOFFSETFROM:+0200
TZOFFSETTO:+0100
TZNAME:CET
END:STANDARD
END:VTIMEZONE
END:VCALENDAR