BEGIN:VCALENDAR
VERSION:2.0
PRODID:-//wp-events-plugin.com//6.4.6.4//EN
TZID:Europe/Berlin
X-WR-TIMEZONE:Europe/Berlin
BEGIN:VEVENT
UID:546@dr-haertel.de
DTSTART;TZID=Europe/Berlin:20250101T000000
DTEND;TZID=Europe/Berlin:20250101T000000
DTSTAMP:20241219T073032Z
URL:https://www.dr-haertel.de/notdienste/zahnaerztin-dr-susann-lemmel-12/
SUMMARY:Zahnärztin Dr. Susann Lemmel
DESCRIPTION:Behandlungszeit:\n\n10-11 Uhr\n\nTelefon: 05331-977666
CATEGORIES:Notdienst
LOCATION:Zahnärztin Dr. Susann Lemmel\, Jahnstraße 36\, Wolfenbüttel\, N
 iedersachsen\, 38302\, Deutschland
GEO:52.17155;10.554790000000025
X-APPLE-STRUCTURED-LOCATION;VALUE=URI;X-ADDRESS=Jahnstraße 36\, Wolfenbüt
 tel\, Niedersachsen\, 38302\, Deutschland;X-APPLE-RADIUS=100;X-TITLE=Zahn
 ärztin Dr. Susann Lemmel:geo:52.17155,10.554790000000025
END:VEVENT
BEGIN:VTIMEZONE
TZID:Europe/Berlin
X-LIC-LOCATION:Europe/Berlin
BEGIN:STANDARD
DTSTART:20241027T020000
TZOFFSETFROM:+0200
TZOFFSETTO:+0100
TZNAME:CET
END:STANDARD
END:VTIMEZONE
END:VCALENDAR