BEGIN:VCALENDAR
VERSION:2.0
PRODID:-//wp-events-plugin.com//6.4.6.4//EN
TZID:Europe/Berlin
X-WR-TIMEZONE:Europe/Berlin
BEGIN:VEVENT
UID:331@dr-haertel.de
DTSTART;TZID=Europe/Berlin:20211218T000000
DTEND;TZID=Europe/Berlin:20211219T000000
DTSTAMP:20211210T095414Z
URL:https://www.dr-haertel.de/notdienste/zahnaerztin-dr-hoffmann/
SUMMARY:Zahnärztin Dr. Hoffmann
DESCRIPTION:05331-908820\n\nBehandlungszeit:\n\n10-11 Uhr
CATEGORIES:Notdienst
LOCATION:Zahnärtzin Nicola Hoffmann\, Neuer Weg 89\, Wolfenbüttel\, 38300
 0\, Deutschland
GEO:52.1694206;10.541084
X-APPLE-STRUCTURED-LOCATION;VALUE=URI;X-ADDRESS=Neuer Weg 89\, Wolfenbütte
 l\, 383000\, Deutschland;X-APPLE-RADIUS=100;X-TITLE=Zahnärtzin Nicola Hof
 fmann:geo:52.1694206,10.541084
END:VEVENT
BEGIN:VTIMEZONE
TZID:Europe/Berlin
X-LIC-LOCATION:Europe/Berlin
BEGIN:STANDARD
DTSTART:20211031T020000
TZOFFSETFROM:+0200
TZOFFSETTO:+0100
TZNAME:CET
END:STANDARD
END:VTIMEZONE
END:VCALENDAR