BEGIN:VCALENDAR
VERSION:2.0
PRODID:-//wp-events-plugin.com//6.4.6.4//EN
TZID:Europe/Berlin
X-WR-TIMEZONE:Europe/Berlin
BEGIN:VEVENT
UID:330@dr-haertel.de
DTSTART;TZID=Europe/Berlin:20211211T000000
DTEND;TZID=Europe/Berlin:20211212T000000
DTSTAMP:20211210T095158Z
URL:https://www.dr-haertel.de/notdienste/zahnaerztin-dr-bettina-brueche-7/
SUMMARY:Zahnärztin Dr. Bettina Brüche
DESCRIPTION:05331-907299\n\n&nbsp\;\n\nBehandlungszeit:\n\n10-11 Uhr
CATEGORIES:Notdienst
LOCATION:Zahnärztin Dr. Bettina Brüche\, Brockenblick 8\, Wolfenbüttel\,
  Niedersachsen\, 38302\, Deutschland
GEO:52.171138;10.547586200000069
X-APPLE-STRUCTURED-LOCATION;VALUE=URI;X-ADDRESS=Brockenblick 8\, Wolfenbüt
 tel\, Niedersachsen\, 38302\, Deutschland;X-APPLE-RADIUS=100;X-TITLE=Zahn
 ärztin Dr. Bettina Brüche:geo:52.171138,10.547586200000069
END:VEVENT
BEGIN:VTIMEZONE
TZID:Europe/Berlin
X-LIC-LOCATION:Europe/Berlin
BEGIN:STANDARD
DTSTART:20211031T020000
TZOFFSETFROM:+0200
TZOFFSETTO:+0100
TZNAME:CET
END:STANDARD
END:VTIMEZONE
END:VCALENDAR