BEGIN:VCALENDAR
VERSION:2.0
PRODID:-//wp-events-plugin.com//6.4.6.4//EN
TZID:Europe/Berlin
X-WR-TIMEZONE:Europe/Berlin
BEGIN:VEVENT
UID:76@dr-haertel.de
DTSTART;TZID=Europe/Berlin:20180303T100000
DTEND;TZID=Europe/Berlin:20180304T110000
DTSTAMP:20180212T105815Z
URL:https://www.dr-haertel.de/notdienste/zahnaerztin-andrea-eysoldt-2/
SUMMARY:Zahnärztin Andrea Eysoldt
DESCRIPTION:05331-7108230
CATEGORIES:Notdienst
LOCATION:Zahnärztin Andrea Eysoldt\, Monplaisir 1\, Wolfenbüttel\, Nieder
 sachsen\, 38304\, Deutschland
GEO:52.1546607;10.535502199999996
X-APPLE-STRUCTURED-LOCATION;VALUE=URI;X-ADDRESS=Monplaisir 1\, Wolfenbütte
 l\, Niedersachsen\, 38304\, Deutschland;X-APPLE-RADIUS=100;X-TITLE=Zahnär
 ztin Andrea Eysoldt:geo:52.1546607,10.535502199999996
END:VEVENT
BEGIN:VTIMEZONE
TZID:Europe/Berlin
X-LIC-LOCATION:Europe/Berlin
BEGIN:STANDARD
DTSTART:20171029T020000
TZOFFSETFROM:+0200
TZOFFSETTO:+0100
TZNAME:CET
END:STANDARD
END:VTIMEZONE
END:VCALENDAR